BEGIN:VCALENDAR
VERSION:2.0
PRODID:-//wp-events-plugin.com//7.2.3.1//EN
TZID:Australia/Adelaide
X-WR-TIMEZONE:Australia/Adelaide
BEGIN:VEVENT
UID:827@ais.sa.edu.au
DTSTART;TZID=Australia/Adelaide:20240530T090000
DTEND;TZID=Australia/Adelaide:20240530T153000
DTSTAMP:20240527T062824Z
URL:https://www.ais.sa.edu.au/events/inclusive-education-leaders-roundtabl
 e/
SUMMARY:Inclusive Education Leaders Roundtable
DESCRIPTION:Inclusion education leaders are invited to join this inaugural
 roundtable event to engage with new and emerging themes\, be supported to
 review practice and plan for improvement\, and build capacity to lead staff
 to reflect on how relevant school structures underpin and ensure
 intentional planning\, consultation and documentation for excellence in
 inclusive practice.\n\nLoren Swancutt is an experienced teacher\, school
 leader and system level advisor who has worked with many primary and
 secondary schools across Australia to advance inclusive education
 practices. Loren brings a high level of currency and credibility to the
 work of inclusive reform\, and possesses a unique ability to interpret and
 translate theory and research into achievable and sustainable
 practice.\n\nLoren will lead and provide opportunities for inclusive
 educational leaders to engage in the following ways:\n\n 	unpack current
 themes and priorities for inclusive education\n 	provide clarity and
 planning pathways for inclusive practices\, and\n 	facilitate positive and
 collaborative consultation and networking\n\nAudience: Inclusive Education
 Leaders\n\nDelivery mode: face-to-face at Immanuel College (32 Morphett
 Road\, Novar Gardens)\n\nPresenter: Loren Swancutt\, founder School
 Inclusion\n\nPrice: $150.00 (GST inclusive)\n\nBookings for this event
 close at 5.00pm on 17/05/2024.\n\nSee the AISSA Professional Learning
 Terms and Conditions for the full registration terms and conditions
 including the cancellation policy.\n\nFor registration enquiries please
 contact Rae Dawkins.
CATEGORIES:Professional Learning
LOCATION:Immanuel College\, 32 Morphett Road\, Novar Gardens\, SA\, 5040\,
 Australia
X-APPLE-STRUCTURED-LOCATION;VALUE=URI;X-ADDRESS=32 Morphett Road\, Novar
 Gardens\, SA\, 5040\, Australia;X-APPLE-RADIUS=100;X-TITLE=Immanuel
 College:geo:0,0
END:VEVENT
BEGIN:VTIMEZONE
TZID:Australia/Adelaide
X-LIC-LOCATION:Australia/Adelaide
BEGIN:STANDARD
DTSTART:20240407T020000
TZOFFSETFROM:+1030
TZOFFSETTO:+0930
TZNAME:ACST
END:STANDARD
END:VTIMEZONE
END:VCALENDAR