BEGIN:VCALENDAR
VERSION:2.0
PRODID:-//wp-events-plugin.com//7.2.3.1//EN
TZID:Australia/Adelaide
X-WR-TIMEZONE:Australia/Adelaide
BEGIN:VEVENT
UID:825@ais.sa.edu.au
DTSTART;TZID=Australia/Adelaide:20240223T090000
DTEND;TZID=Australia/Adelaide:20240223T123000
DTSTAMP:20231204T001340Z
URL:https://www.ais.sa.edu.au/events/human-interdependence-project-hip/
SUMMARY:Human Interdependence Project (HIP)
DESCRIPTION:Be part of a global partnership with AISSA\, YEE Education and
 Professor Yong Zhao through the Human Interdependence Project
 (HIP)!\n\nSchools are invited to participate in a pilot program with
 Professor Zhao and YEE Education to work with teachers and students from
 across the globe to find problems worth solving and to innovate\, create
 and find entrepreneurial solutions that create value for others.\n\nThe
 program aims to cultivate globally competent\, creative and
 entrepreneurially minded humans\, following the three pillars of the new
 paradigm of education proposed by Yong Zhao: personalisable learning\,
 authentic product-oriented learning\, and globally situated
 learning.\n\nStudents and teachers from Australia\, China and beyond will
 work together to create authentic products that illustrate human
 connectedness and interdependence in the globalised world. In doing so\,
 students will discover and develop their unique strengths\, enjoy
 participation in product creation and service opportunities that make a
 difference and develop global competency and social intelligence in online
 and cross-cultural settings.\n\nTeachers will develop new skills for
 teaching in a new paradigm of education\, lead the creation of future
 education\, network with like-minded educators in Australia and China and
 have the opportunity to work with some of the world's leading education
 experts.\n\nBy registering you are committing to attending the following
 project sessions:\n\nSession 1: 23/02/2024\, 9.00am-12.30pm - HIP Kickoff
 Event\, AISSA (face-to-face)\nMar to Nov 2024 - Ongoing professional
 learning with YEE Education (online)\nSession 2: 28/06/2024\, 9.30am-2.30pm
 - Shark Tank - Venue TBC (face-to-face)\nSession 3: 22/11/2024\,
 9.30am-2.30pm - Final Learning Festival - Venue TBC (face-to-face and
 online)\n\nThe following items may also be arranged between YEE and
 participants and at own-cost:\n\nJul 2024: potential Chinese students and
 teachers cross cultural exchange to Australia\nOct 2024: potential students
 and teachers cross cultural exchange to China\n\nAudience: Primary and
 secondary school teams – teachers and students\n\nDelivery mode:
 face-to-face and online\n\nPresenters: Dr Yong Zhao\, Foundation
 Distinguished Professor\, School of Education\, University of Kansas and
 Professor Educational Leadership\, Faculty of Education\, University of
 Melbourne\n\nPrice: $4\,000.00 (GST inclusive) per school team invoiced
 directly from YEE Education.  Catering expenses for face-to-face sessions
 will be invoiced separately by the AISSA.\n\nBooking for this project close
 at 5.00pm on 09/02/2024\n\nSee the AISSA Professional Learning Terms and
 Conditions for the full registration terms and conditions including the
 cancellation policy.\n\nTo register your school team please visit this
 link.\n\nFor registration enquiries please contact Rae Dawkins.\n\n&nbsp\;
CATEGORIES:Leadership and Coaching,Professional Learning
LOCATION:Association of Independent Schools of SA\, 128 Greenhill Road\,
 Unley\, SA\, 5061\, Australia
GEO:-34.9601578;138.60864300000003
X-APPLE-STRUCTURED-LOCATION;VALUE=URI;X-ADDRESS=128 Greenhill Road\,
 Unley\, SA\, 5061\, Australia;X-APPLE-RADIUS=100;X-TITLE=Association of
 Independent Schools of SA:geo:-34.9601578,138.60864300000003
END:VEVENT
BEGIN:VTIMEZONE
TZID:Australia/Adelaide
X-LIC-LOCATION:Australia/Adelaide
BEGIN:DAYLIGHT
DTSTART:20231001T030000
TZOFFSETFROM:+0930
TZOFFSETTO:+1030
TZNAME:ACDT
END:DAYLIGHT
END:VTIMEZONE
END:VCALENDAR