BEGIN:VCALENDAR
VERSION:2.0
PRODID:-//wp-events-plugin.com//7.2.3.1//EN
TZID:Australia/Adelaide
X-WR-TIMEZONE:Australia/Adelaide
BEGIN:VEVENT
UID:479@ais.sa.edu.au
DTSTART;TZID=Australia/Adelaide:20210810T160000
DTEND;TZID=Australia/Adelaide:20210810T173000
DTSTAMP:20210804T072530Z
URL:https://www.ais.sa.edu.au/events/hr-series-redundancy-use-fixed-term-c
 ontracts/
SUMMARY:HR Series: Redundancy and the use of Fixed Term Contracts
DESCRIPTION:In accordance with the Fair Work Act 2009\, this session will
 look at ways to bring the employment relationship to an industrially safe
 and amicable end when having to make a staff member’s position redundant.
 It will also cover the risks associated with fixed term contracts – their
 use and what happens when the contract comes to an
 end.\n\n&nbsp\;\n\nDelivery mode: Zoom - A Zoom link will be sent closer to
 the event.\n\nPresenter: Elizabeth Sexton\n\n&nbsp\;\n\nPlease see the
 AISSA’s Video Conferencing Collection Notice and Video Conferencing
 Privacy Disclosure Statement for information about the AISSA’s collection
 of personal information through video conferencing.\n\n&nbsp\;\n\nFor
 registration enquiries please contact Sonia Harrison.
CATEGORIES:Leadership and Coaching,Professional Learning
END:VEVENT
BEGIN:VTIMEZONE
TZID:Australia/Adelaide
X-LIC-LOCATION:Australia/Adelaide
BEGIN:STANDARD
DTSTART:20210404T020000
TZOFFSETFROM:+1030
TZOFFSETTO:+0930
TZNAME:ACST
END:STANDARD
END:VTIMEZONE
END:VCALENDAR