BEGIN:VCALENDAR
VERSION:2.0
PRODID:-//wp-events-plugin.com//7.2.3.1//EN
TZID:Australia/Adelaide
X-WR-TIMEZONE:Australia/Adelaide
BEGIN:VEVENT
UID:514@ais.sa.edu.au
DTSTART;TZID=Australia/Adelaide:20220329T160000
DTEND;TZID=Australia/Adelaide:20220329T173000
DTSTAMP:20220325T005208Z
URL:https://www.ais.sa.edu.au/events/hr-series-record-keeping-legal-hr-obl
 igations/
SUMMARY:HR Series: Record Keeping – Your Legal and HR Obligations
DESCRIPTION:The requirement to keep records in a school is subject to
 legislation under the Fair Work Act 2009. This session will outline these
 record keeping requirements as well as what is recommended as best HR
 practice.\n\n&nbsp\;\n\nTarget audience – principals\, business
 managers\, payroll\, human resource professionals\n\nDelivery mode –
 Zoom\n\nPresenters – Elizabeth Sexton\, Head of Workplace and Human
 Relations\, AISSA\n\n&nbsp\;\n\nFor registration enquiries please contact
 Sonia Harrison.\n\nA Zoom link will be sent closer to the event.
CATEGORIES:Leadership and Coaching,Professional Learning
END:VEVENT
BEGIN:VTIMEZONE
TZID:Australia/Adelaide
X-LIC-LOCATION:Australia/Adelaide
BEGIN:DAYLIGHT
DTSTART:20211003T030000
TZOFFSETFROM:+0930
TZOFFSETTO:+1030
TZNAME:ACDT
END:DAYLIGHT
END:VTIMEZONE
END:VCALENDAR