BEGIN:VCALENDAR
VERSION:2.0
PRODID:-//wp-events-plugin.com//7.2.3.1//EN
TZID:Australia/Adelaide
X-WR-TIMEZONE:Australia/Adelaide
BEGIN:VEVENT
UID:452@ais.sa.edu.au
DTSTART;TZID=Australia/Adelaide:20210812T160000
DTEND;TZID=Australia/Adelaide:20210812T173000
DTSTAMP:20210802T015504Z
URL:https://www.ais.sa.edu.au/events/five-ways-session-4-6/
SUMMARY:Five Ways of Being\, Webinar 3
DESCRIPTION:In this program you will learn how to apply the Five Ways of
 Being to become a leader who is more trusting\, brave\, compelling\,
 purposeful and focused on growth.\n\nLeaders will walk away with
 practical\, evidence-based strategies\, improved leadership skills and a
 renewed sense of clarity and confidence.\n\nThis program supports learning
 leaders to author their own leadership story through career-changing
 self-discovery and practical tools. The authors engage participants in the
 theory\, thinking\, and practice which learning leaders undertake to truly
 transform the way they see their own leadership and to help others do the
 same.\n\nThe five part webinar series focuses on:\n\n 	Leadership identity
 and its implications\n 	Being trusting\n 	Being brave\n 	Being a
 storyteller\n 	Being purposeful\n 	Being growth
 focused\n\n&nbsp\;\n\nTarget audience:\nPrincipals\, Deputy Principals\,
 senior\, middle and emerging leaders.\n\nDelivery
 mode:\nZoom\n\nPresenters:\nJane Danvers\, Principal\, Wilderness
 School\nGavin Grift\, CEO\, Grift Education\nHeather de Blasio\, Director
 of Teaching and Learning Excellence\, Wilderness
 School\n\n&nbsp\;\n\nSessions in this series:\nWebinar 1 - 26 May\, 4.00 pm
 to 5.30 pm\nWebinar 2 - 28 July\, 4.00 pm to 5.30 pm\nWebinar 3 - 12
 August\, 4.00 pm to 5.30 pm\nWebinar 4 - 2 September\, 4.00 pm to 5.30
 pm\nWebinar 5 - 15 September\, 4.00 pm to 5.30 pm\n\n&nbsp\;\n\nIMPORTANT
 NOTICE: \n\nPlease see the AISSA’s Video Conferencing Collection Notice
 and Video Conferencing Privacy Disclosure Statement for information about
 the AISSA’s collection of personal information through video
 conferencing.\n\nZoom links will be sent closer to the events.\n\nFor
 registration enquiries please contact Deb Virgo.
CATEGORIES:Leadership and Coaching,Professional Learning
END:VEVENT
BEGIN:VTIMEZONE
TZID:Australia/Adelaide
X-LIC-LOCATION:Australia/Adelaide
BEGIN:STANDARD
DTSTART:20210404T020000
TZOFFSETFROM:+1030
TZOFFSETTO:+0930
TZNAME:ACST
END:STANDARD
END:VTIMEZONE
END:VCALENDAR