BEGIN:VCALENDAR
VERSION:2.0
PRODID:-//wp-events-plugin.com//7.2.3.1//EN
TZID:Australia/Adelaide
X-WR-TIMEZONE:Australia/Adelaide
BEGIN:VEVENT
UID:449@ais.sa.edu.au
DTSTART;TZID=Australia/Adelaide:20210319T080000
DTEND;TZID=Australia/Adelaide:20210319T154500
DTSTAMP:20210301T031237Z
URL:https://www.ais.sa.edu.au/events/five-ways-session-1-6/
SUMMARY:Five Ways of Being Leadership Symposium
DESCRIPTION:In this program you will learn how to apply the Five Ways of
 Being to become a leader who is more trusting\, brave\, compelling\,
 purposeful and focused on growth.  Leaders will walk away with
 practical\, evidence-based strategies\, improved leadership skills and a
 renewed sense of clarity and confidence.\n\nThis program supports learning
 leaders to author their own leadership story through career-changing
 self-discovery and practical tools. The authors engage participants in the
 theory\, thinking\, and practice which learning leaders undertake to truly
 transform the way they see their own leadership and to help others do the
 same.\n\nThe program is in two parts.\n\nPart 1: Face to Face
 Symposium\n\nThe program will commence with a face-to-face Leadership
 Symposium from 8.00 am to 3.45 pm at Wilderness School on Friday 19 March
 2021.  Please see the event brochure for full details of the speakers and
 program for the day. Registration and payment for the symposium is through
 Grift Education
 https://www.grifteducation.com/five-ways-of-being-leadership-symposium/ .
 Enter discount code AISSA21 when promoted for an AISSA member special
 ticket price of $250 excluding GST.\n\nIt is strongly recommended that
 participants enrol in both the face-to-face symposium as well as the AISSA
 webinar series.  \n\nPart 2: AISSA 5 Ways of Being Webinar Series:\n\nThe
 five part webinar series builds on the symposium at Wilderness School and
 focuses on:\n\n 	Leadership identity and its implications\n 	Being
 trusting\n 	Being brave\n 	Being a storyteller\n 	Being purposeful\n 	Being
 growth focused\n\n&nbsp\;\n\nSessions in the Webinar Series:\n\n\nWebinar 1
 – 26 May\, 4.00 pm to 5.30 pm\nWebinar 2 – 28 July\, 4.00 pm to 5.30
 pm\nWebinar 3 – 12 August\, 4.00 pm to 5.30 pm\nWebinar 4 – 2
 September\, 4.00 pm to 5.30 pm\nWebinar 5 – 15 September\, 4.00 pm to
 5.30 pm\n\n&nbsp\;\n\nTarget audience:\nPrincipals\, Deputy Principals\,
 senior\, middle and emerging leaders.\n\n&nbsp\;\n\nPresenters:\nJane
 Danvers\, Principal\, Wilderness School\nGavin Grift\, CEO\, Grift
 Education\nHeather de Blasio\, Director of Teaching and Learning
 Excellence\, Wilderness School\n\n&nbsp\;\n\nFor enquiries or assistance
 please contact Deb Virgo.
CATEGORIES:Leadership and Coaching,Professional Learning
LOCATION:Wilderness School\, 30 Hawkers Road\, Medindie\, SA\, 5081\,
 Australia
X-APPLE-STRUCTURED-LOCATION;VALUE=URI;X-ADDRESS=30 Hawkers Road\,
 Medindie\, SA\, 5081\, Australia;X-APPLE-RADIUS=100;X-TITLE=Wilderness
 School:geo:0,0
END:VEVENT
BEGIN:VTIMEZONE
TZID:Australia/Adelaide
X-LIC-LOCATION:Australia/Adelaide
BEGIN:DAYLIGHT
DTSTART:20201004T030000
TZOFFSETFROM:+0930
TZOFFSETTO:+1030
TZNAME:ACDT
END:DAYLIGHT
END:VTIMEZONE
END:VCALENDAR