BEGIN:VCALENDAR
VERSION:2.0
PRODID:-//wp-events-plugin.com//7.2.3.1//EN
TZID:Australia/Adelaide
X-WR-TIMEZONE:Australia/Adelaide
BEGIN:VEVENT
UID:501@ais.sa.edu.au
DTSTART;TZID=Australia/Adelaide:20210609T190000
DTEND;TZID=Australia/Adelaide:20210609T210000
DTSTAMP:20210607T060106Z
URL:https://www.ais.sa.edu.au/events/financial-management-non-accountants-
 improving-financial-literacy-governance-session-via-zoom/
SUMMARY:Financial Management for Non-Accountants: Improving your Financial
 Literacy\, governance session - (via Zoom)
DESCRIPTION:A Zoom session\nA workshop for aspiring\, new board members and
 those wishing to improve their financial literacy.\n\nThis workshop is
 designed for those board members who have minimal financial training or
 knowledge. It will focus on what board members need to know\, what to look
 out for\, financial performance indicators and understanding
 budgets.\n\nThis interactive workshop aims to build the capacity of boards
 to better understand school financials and will address basic theory and
 concepts and the importance of school context in effective financial
 management.\n\nThe workshop will be practical and provide the opportunity
 for questions and individual assistance.\n\nThis session willl be presented
 by Paul Campey.  As a Chartered Accountant (Fellow) and specialist
 consultant in the areas of governance\, leadership and financial
 management\, Paul has undertaken reviews and provided assistance to
 Schools\, Churches and Not for Profits in Australia and internationally\,
 as well as running Board and other training seminars. He is the co-founder
 of The Bursars Forum (www.bursarsforum.com) and currently serves on the
 ACSI Global Council and the Board of Christian Heritage College (Tertiary).
 He has previously served on a number of local and international boards.
 Paul has also co-authored the book Community Governance\, a practical guide
 to building healthy Non Profit organisations. Prior to entering consulting
 in 2001 he was a Business Manager and Company Secretary in two large
 Independent Schools. Before working in schools and not for profits Paul was
 an auditor for 7 years with Coopers &amp\; Lybrand (now
 PriceWaterhouseCoopers). Paul is currently undertaking a PhD focussed on
 School Governance.\n\n&nbsp\;\n\nTarget audience: New board members and
 those wishing to improve their financial literacy - Country
 Schools\n\nDelivery mode: via Zoom\n\nPresenter: Paul
 Campey\n\n&nbsp\;\n\nIMPORTANT NOTICE: \n\nPlease see the AISSA’s Video
 Conferencing Collection Notice and Video Conferencing Privacy Disclosure
 Statement for information about the AISSA’s collection of personal
 information through video conferencing.\n\nZoom links will be sent closer
 to the events.\n\nFor registration enquiries please contact Deb
 Virgo.\n\n&nbsp\;
CATEGORIES:Professional Learning,Public Event
END:VEVENT
BEGIN:VTIMEZONE
TZID:Australia/Adelaide
X-LIC-LOCATION:Australia/Adelaide
BEGIN:STANDARD
DTSTART:20210404T020000
TZOFFSETFROM:+1030
TZOFFSETTO:+0930
TZNAME:ACST
END:STANDARD
END:VTIMEZONE
END:VCALENDAR