BEGIN:VCALENDAR
VERSION:2.0
PRODID:-//wp-events-plugin.com//7.2.3.1//EN
TZID:Australia/Adelaide
X-WR-TIMEZONE:Australia/Adelaide
BEGIN:VEVENT
UID:964@ais.sa.edu.au
DTSTART;TZID=Australia/Adelaide:20260519T090000
DTEND;TZID=Australia/Adelaide:20260519T150000
DTSTAMP:20260401T001758Z
URL:https://www.ais.sa.edu.au/events/embedding-ai-and-data-tools-into-ever
 yday-practice/
SUMMARY:Embedding AI and Data Tools into Everyday Practice
DESCRIPTION:Explore how AI is transforming teaching and data use in
 secondary schools in this dynamic one-day workshop. Gain hands-on
 experience with practical tools\, data-driven insights\, and powerful
 strategies that empower educators to personalise learning\,
 support educators and enhance learning outcomes.  \n\nYour commitment:
 6 contact hours\, including pre-prepared data to use during the
 workshop. This will be communicated prior to the workshop via
 email. \n\nAITSL Professional Standards for Teachers: Focus areas 2.6\,
 3.3\, 4.2\, 4.5\, 6.2 and 6.3\n\nDelivery mode: 1 x face-to-face
 session.\n\nPresented by: Dr. Nick Jackson\, Digital Technologies
 Leader\, Scotch College\n\nPrice: $380.00 per person (GST
 inclusive).\n\nDate: 19 May 2026\, 9:00am-3:00pm.\n\nLocation: AISSA\, 128
 Greenhill Road\, Unley SA 5061.\n\nRegistration closes: 29 April 2026 at
 5:00pm.\n\nProgram Overview: This full-day workshop\, led by Dr. Nick
 Jackson\, explores how Artificial Intelligence (AI) and data tools are
 transforming secondary classrooms across South Australia. Learn how
 educators are using AI to streamline assessment\, personalise learning\,
 and interpret student data to inform teaching. Nick will showcase real
 examples from SA schools. Through hands-on activities and collaborative
 discussion\, participants will explore ethical considerations\, practical
 applications\, and future possibilities. Share ideas with colleagues\,
 discover what is working in local contexts\, and leave with strategies
 you can implement immediately. Whether you are new to AI or looking to
 deepen your understanding\, this workshop offers a supportive space to
 engage with cutting-edge tools and pedagogy.\n\nProgram Lead: please
 contact Karen Schoff\n\nTerms and Conditions: Registration for this event
 will incur the fee detailed above. This fee will be invoiced after the
 event and is payable unless written notice of cancellation is received
 seven or more days prior to the event.  See the AISSA’s Professional
 Learning Terms and Conditions for the full registration terms and
 conditions including the cancellation policy.
CATEGORIES:Curriculum, Pedagogy and Assessment,Futures
 Thinking,Professional Learning,Wellbeing and Inclusion
LOCATION:Association of Independent Schools of SA\, 128 Greenhill Road\,
 Unley\, SA\, 5061\, Australia
GEO:-34.9601578;138.60864300000003
X-APPLE-STRUCTURED-LOCATION;VALUE=URI;X-ADDRESS=128 Greenhill Road\,
 Unley\, SA\, 5061\, Australia;X-APPLE-RADIUS=100;X-TITLE=Association of
 Independent Schools of SA:geo:-34.9601578,138.60864300000003
END:VEVENT
BEGIN:VTIMEZONE
TZID:Australia/Adelaide
X-LIC-LOCATION:Australia/Adelaide
BEGIN:STANDARD
DTSTART:20260405T020000
TZOFFSETFROM:+1030
TZOFFSETTO:+0930
TZNAME:ACST
END:STANDARD
END:VTIMEZONE
END:VCALENDAR