BEGIN:VCALENDAR
VERSION:2.0
PRODID:-//wp-events-plugin.com//7.2.3.1//EN
TZID:Australia/Adelaide
X-WR-TIMEZONE:Australia/Adelaide
BEGIN:VEVENT
UID:435@ais.sa.edu.au
DTSTART;TZID=Australia/Adelaide:20210312T090000
DTEND;TZID=Australia/Adelaide:20210312T120000
DTSTAMP:20201204T044949Z
URL:https://www.ais.sa.edu.au/events/early-years-language-literacy-develop
 ment-providing-optimal-opportunity-growth-2/
SUMMARY:Early Years Language and Literacy Development: Providing Optimal
 Opportunity for Growth
DESCRIPTION:Oral language\, phonological awareness and print awareness are
 the foundations upon which literacy is built. This workshop will equip
 participants to:\n\n&nbsp\;\n\n 	further develop knowledge of early
 literacy and language development\n 	identify the literacy and language
 proficiencies\, needs and development of students\n 	consider effective and
 proactive planning and teaching strategies and environments\n 	monitor and
 respond to student progress\n 	develop and use rubrics supporting
 intentional language focus within the Australian Curriculum and Early Years
 Learning Framework.\n\n&nbsp\;\n\nTarget audience: Early Years and Junior
 Primary Teachers\n\nDelivery mode: face to face\n\nPresenter: Stephi
 West\n\nIMPORTANT NOTICE: \n\nDue to current COVID-19 restrictions the
 AISSA is required to enforce set limits on the number of attendees for
 this event based on social distancing and maximum density rules.  To
 secure your place please complete the registration as attendance at the
 AISSA office without a confirmed place may result in being turned
 away if the event is at capacity.\n\nFor registration enquiries please
 contact Rae Dawkins.\n\nThere is no on-site parking available.  For
 parking options please refer to the parking map.  Tram stop #1 Greenhill
 Road is a 6-minute walk away
CATEGORIES:Professional Learning
LOCATION:Association of Independent Schools of SA\, 128 Greenhill Road\,
 Unley\, SA\, 5061\, Australia
GEO:-34.9601578;138.60864300000003
X-APPLE-STRUCTURED-LOCATION;VALUE=URI;X-ADDRESS=128 Greenhill Road\,
 Unley\, SA\, 5061\, Australia;X-APPLE-RADIUS=100;X-TITLE=Association of
 Independent Schools of SA:geo:-34.9601578,138.60864300000003
END:VEVENT
BEGIN:VTIMEZONE
TZID:Australia/Adelaide
X-LIC-LOCATION:Australia/Adelaide
BEGIN:DAYLIGHT
DTSTART:20201004T030000
TZOFFSETFROM:+0930
TZOFFSETTO:+1030
TZNAME:ACDT
END:DAYLIGHT
END:VTIMEZONE
END:VCALENDAR