BEGIN:VCALENDAR
VERSION:2.0
PRODID:-//wp-events-plugin.com//7.2.3.1//EN
TZID:Australia/Adelaide
X-WR-TIMEZONE:Australia/Adelaide
BEGIN:VEVENT
UID:418@ais.sa.edu.au
DTSTART;TZID=Australia/Adelaide:20210520T160000
DTEND;TZID=Australia/Adelaide:20210520T173000
DTSTAMP:20210407T003413Z
URL:https://www.ais.sa.edu.au/events/early-childhood-directors-network-mee
 ting-2-inclusive-practices-early-years/
SUMMARY:Early Childhood Directors’ Network Meeting 2: Inclusive Practices
 in the Early Years
DESCRIPTION:These meetings will focus on a range of local and national
 current issues and topics that relate to the early childhood sector. ELC
 Directors and Coordinators will come together to collaborate and discuss
 their roles and responsibilities as highly regarded leaders in their field
 of expertise.\n\nIn 2021\, the Early Childhood Directors' network will
 provide opportunities to:\n\n 	respond to state and national legislation
 and associated regulations\n 	consider effective strategies and approaches
 in relation to the assessment and rating of services\n 	explore effective
 ways to self-assess and promote excellence in the delivery of early
 childhood education and demonstrate continual quality improvement\n 	access
 resources on quality programs\, practices and policies in early childhood
 education\n\n&nbsp\;\n\nTerm 2 meeting focus: Inclusive Practices in the
 Early Years\n\nPresenter: Melissa Symonds (AISSA Senior Educational
 Consultant)\n\nThis session will explore strategies to build the capacity
 of ELC staff to cater more effectively for students with diverse needs\,
 including:\n\n 	How early identification of children with special needs can
 be made\n 	How early childhood educators can be best supported to implement
 early intervention strategies\n\n&nbsp\;\n\nTarget audience: Early Learning
 Centre Directors/Coordinators\n\nDelivery mode: face to face\n\nIf you
 would like to attend these sessions by Zoom\, please register on the AISSA
 website and then email Rae Dawkins to advise.\n\n&nbsp\;\n\nIMPORTANT
 NOTICE: \n\nDue to current COVID-19 restrictions the AISSA is required
 to enforce set limits on the number of attendees for this event based on
 social distancing and maximum density rules.  To secure your place please
 complete the registration as attendance at the AISSA office without a
 confirmed place may result in being turned away if the event is at
 capacity.\n\nFor registration enquiries please contact Rae
 Dawkins.\n\nThere is no on-site parking available.  For parking options
 please refer to the parking map.  Tram stop #1 Greenhill Road is a
 6-minute walk away
CATEGORIES:Leadership and Coaching,Professional Learning
LOCATION:Association of Independent Schools of SA\, 128 Greenhill Road\,
 Unley\, SA\, 5061\, Australia
GEO:-34.9601578;138.60864300000003
X-APPLE-STRUCTURED-LOCATION;VALUE=URI;X-ADDRESS=128 Greenhill Road\,
 Unley\, SA\, 5061\, Australia;X-APPLE-RADIUS=100;X-TITLE=Association of
 Independent Schools of SA:geo:-34.9601578,138.60864300000003
END:VEVENT
BEGIN:VTIMEZONE
TZID:Australia/Adelaide
X-LIC-LOCATION:Australia/Adelaide
BEGIN:STANDARD
DTSTART:20210404T020000
TZOFFSETFROM:+1030
TZOFFSETTO:+0930
TZNAME:ACST
END:STANDARD
END:VTIMEZONE
END:VCALENDAR