BEGIN:VCALENDAR
VERSION:2.0
PRODID:-//wp-events-plugin.com//7.2.3.1//EN
TZID:Australia/Adelaide
X-WR-TIMEZONE:Australia/Adelaide
BEGIN:VEVENT
UID:630@ais.sa.edu.au
DTSTART;TZID=Australia/Adelaide:20220804T090000
DTEND;TZID=Australia/Adelaide:20220804T130000
DTSTAMP:20220721T031119Z
URL:https://www.ais.sa.edu.au/events/developing-whole-school-approaches-we
 llbeing-day-2-2/
SUMMARY:Developing Whole School Approaches to Wellbeing\, day 2 of 2
DESCRIPTION:Schools will be supported to enhance their expertise in
 understanding the characteristics and elements of effective whole-of-school
 approaches to wellbeing. Participants will examine\, implement and evaluate
 contextually appropriate frameworks\, approaches\, policies and
 practices.\n\nWorkshop A\n\nProfessor Donna Cross will present on a range
 of topics including:\n\n 	wellbeing and mental health in Australia’s
 children and youth\, and school staff wellbeing\n 	effective Responses
 &amp\; Targeted Approaches: Prevent\, Promote\, Protect\n 	the importance
 of ‘Whole School’ inclusivity\n 	key barriers &amp\; opportunities\n
 	proposed recommendations and practical approaches for schools to implement
 and evaluate.\n\nWorkshop B\n\nSelected schools will be invited to
 contribute to a panel discussion during this workshop. Schools will share
 their wellbeing vision and evidence-based framework\, approaches\, policies
 and practices.\n\nThe AISSA Wellbeing Team will follow up with individual
 schools seeking specific support to develop/implement/evaluate a whole
 school approach\, including measurement and evaluation tools\, frameworks\,
 support organisations (Be You\, headspace etc)\, resources and data
 collection (Wellbeing and Engagement Collection).\n\nSuitable case studies
 may be developed and included in the AISSA High Impact School Improvement
 Tool.\n\nSessions in this series:\n\nWorkshop A: 24 May\, 9.00 am - 3.00
 pm\nWorkshop B: 4 August\, 9.00am - 1.00pm\n\n&nbsp\;\n\nTarget audience
 – school  and wellbeing leaders\n\nDelivery mode – face to
 face\n\nPresenters – Professor Donna Cross\, invited school
 presenters/experts\, Alice Duffield\, Senior Educational Consultant\,
 AISSA\, and Mary Pickett\, Senior Educational Consultant\, AISSA\n\nFor
 registration enquiries please contact Rae Dawkins.
CATEGORIES:Professional Learning,Wellbeing and Inclusion
LOCATION:Immanuel College\, 32 Morphett Road\, Novar Gardens\, SA\, 5040\,
 Australia
X-APPLE-STRUCTURED-LOCATION;VALUE=URI;X-ADDRESS=32 Morphett Road\, Novar
 Gardens\, SA\, 5040\, Australia;X-APPLE-RADIUS=100;X-TITLE=Immanuel
 College:geo:0,0
END:VEVENT
BEGIN:VTIMEZONE
TZID:Australia/Adelaide
X-LIC-LOCATION:Australia/Adelaide
BEGIN:STANDARD
DTSTART:20220403T020000
TZOFFSETFROM:+1030
TZOFFSETTO:+0930
TZNAME:ACST
END:STANDARD
END:VTIMEZONE
END:VCALENDAR