BEGIN:VCALENDAR
VERSION:2.0
PRODID:-//wp-events-plugin.com//7.2.3.1//EN
TZID:Australia/Adelaide
X-WR-TIMEZONE:Australia/Adelaide
BEGIN:VEVENT
UID:284@ais.sa.edu.au
DTSTART;TZID=Australia/Adelaide:20200805T160000
DTEND;TZID=Australia/Adelaide:20200805T170000
DTSTAMP:20200730T073144Z
URL:https://www.ais.sa.edu.au/events/deep-learning-teaching-generating-ene
 rgy-pathways-sustained-improvement/
SUMMARY:Deep Learning and Teaching: Generating Energy and Pathways for
 Sustained Improvement\, curated discussion and project ‘taster’
DESCRIPTION:This project ‘taster’ and curated discussion presented by
 co-founders of 4C Transformative Learning\, Professor Michael Anderson (The
 University of Sydney) and Dr Miranda Jefferson will provide insights into
 this exciting new two-year project now commencing in February 2021.  The
 session will be offered via Zoom.\n\nIn this session Professor Michael
 Anderson and Dr Miranda Jefferson will share the vision\, aims and learning
 involved in this project\, while a curated discussion with Principals
 currently engaged in this work\, will provide an authentic overview of
 implementation with specific examples of successes and challenges.\nEven
 before this present crisis there was much discussion in schools\, schooling
 systems nationally and internationally about the need to transform. This
 Interactive session will explore how transformation is a deep learning
 process. Using the learning disposition wheel outlined in Transforming
 Schools and the 4C Coherence Makers we discuss how deeper learning can be
 achieved through an understanding of the dispositions for learning and a
 coherent understanding of creativity\, critical reflection\, collaboration
 and communication and how these capacities enable effective transformation.
 The session will provide opportunities to explore these coherence makers
 through authentic application to your specific school context. (Anderson
 and Jefferson\, 2020)\nThis project is a collaboration between AISSA and
 Professor Michael Anderson\, Academic Leader and Dr Miranda Jefferson\,
 Innovative Practice Leader and co-founders of 4C Transformative Learning.
 \n\nThrough participation in this project Principals and their project
 teams will be supported by 4C Transformative Learning and AISSA Consultants
 in using unique evidence-driven processes and products that have the
 potential to transform learning and schools in response to the emerging
 needs of students.\n\nThe revised Project Brief with new dates for this
 project has been distributed to Principals.\n\n&nbsp\;\nBiographies
 \nAcademic Leader\n\nProfessor Michael Anderson is an internationally
 recognised educational leader. He has taught\, researched and published in
 education and transformation for over 20 years including 13 books and 55
 book chapters and journal articles. His international research and practice
 focus on how the 4Cs can be integrated using coherent frameworks to make
 learning meet the needs of 21st Century learners\n\nInnovative Practice
 Leader\n\nDr Miranda Jefferson has been involved in leading innovation in
 schools for over 20 years. She leads programs\, initiatives and research in
 curriculum reform\, educational change and school transformation. Miranda
 has taught curriculum learning and teacher professional practice in the
 Education Faculty at the University of Sydney and has been on the Arts
 Curriculum Advisory Board for ACARA.\n\nFor further information please
 contact Rosemary Kadow (telephone 8179 1413) and Desiree
 Gilbert (telephone 8179 1414).\n\nPlease register to secure your spot by
 cob Tuesday 4 August.  Registered participants will be given further
 instructions on accessing the Zoom session closer to the
 date.\n\n&nbsp\;\n\nThis video conference may collect personal information
 such as your personal image\, voice and name\, in addition to sensitive
 information you may disclose. This collection may be through the features
 of the technology system\, through written communication via the chat
 facility\, or in the course of conversations. \n\nIf\, during the course
 of this video conference\, you disclose the personal information of
 others\, we encourage you to inform them that you are disclosing that
 information to the AISSA and why. \n\nIf you do not wish your personal
 information to be captured\, please turn your video camera off\, apply a
 pseudonym for your name and be mindful of your contributions via the chat
 facility. \n\nChat transcripts will be used for the purpose of collecting
 attendance information and then will be destroyed. \n\nThe AISSA expressly
 prohibits the use of screen capture to obtain the personal information of
 others. \n\nThe AISSA Privacy Policy is available at www.ais.sa.edu.au 
CATEGORIES:Leadership and Coaching,Professional Learning
END:VEVENT
BEGIN:VTIMEZONE
TZID:Australia/Adelaide
X-LIC-LOCATION:Australia/Adelaide
BEGIN:STANDARD
DTSTART:20200405T020000
TZOFFSETFROM:+1030
TZOFFSETTO:+0930
TZNAME:ACST
END:STANDARD
END:VTIMEZONE
END:VCALENDAR