BEGIN:VCALENDAR
VERSION:2.0
PRODID:-//wp-events-plugin.com//7.2.3.1//EN
TZID:Australia/Adelaide
X-WR-TIMEZONE:Australia/Adelaide
BEGIN:VEVENT
UID:465@ais.sa.edu.au
DTSTART;TZID=Australia/Adelaide:20210310T133000
DTEND;TZID=Australia/Adelaide:20210310T153000
DTSTAMP:20210218T224437Z
URL:https://www.ais.sa.edu.au/events/curriculum-leaders-masterclass-founda
 tion-year-10/
SUMMARY:Curriculum Leaders Masterclass: Foundation to Year 10
DESCRIPTION:Having an in depth understanding of the national and local
 education agenda\, clarity around expectations for curriculum
 implementation\, assessment and reporting in South Australia are critical
 for Curriculum Co-ordinators\, Heads of Teaching and Learning and Heads of
 School.\n\nThis masterclass is designed to support school leaders who have
 responsibility for curriculum leadership Foundation to Year 10 in 2021. The
 dialogue and information presented will re-engage established curriculum
 leaders in national and local education agenda and support individuals new
 to the role.\n\nThis masterclass does not replace the ongoing learning
 provided through attendance at Primary Curriculum Reference Group (PCRG)\,
 Responding to Early Adolescent Learners Group (REAL) and Secondary
 Curriculum Reference Group (SCRG) meetings in 2021.\n\nAt a glance\n\n 	The
 two-hour masterclass will upskill participants in educational matters that
 are foundational to these leadership roles and that underpin effective
 practices and continued improvement in schools.\n 	This will assist those
 new to curriculum leadership to understand the context of the work
 undertaken by the PCRG and SCRG.\n\nTopics covered\n\n 	National and local
 education landscape\n 	Emerging issues and themes across key transition
 points\n 	ACARA’s Agenda\n 	Alternative Curriculum\n 	Assessment and
 reporting\n 	Networks and resources\n\n&nbsp\;\n\nTarget audience: School
 leaders who have responsibility for curriculum leadership Foundation to
 Year 10\n\nDelivery mode: face to face\n\nPresenters:\nDesiree Gilbert\,
 AISSA Senior Educational Consultant\nJulie Tarzia\, AISSA Senior
 Educational Consultant\n\n\n&nbsp\;\n\nIMPORTANT NOTICE: \n\nDue to
 current COVID-19 restrictions the AISSA is required to enforce set limits
 on the number of attendees for this event based on social distancing and
 maximum density rules.  To secure your place please complete the
 registration as attendance at the AISSA office without a
 confirmed place may result in being turned away if the event is at
 capacity.\n\nThere is no on-site parking available.  For parking options
 please refer to the parking map.  Tram stop #1 Greenhill Road is a
 6-minute walk away.\n\nFor registration enquiries please contact Deb Virgo.
CATEGORIES:Leadership and Coaching,Professional Learning
LOCATION:Association of Independent Schools of SA\, 128 Greenhill Road\,
 Unley\, SA\, 5061\, Australia
GEO:-34.9601578;138.60864300000003
X-APPLE-STRUCTURED-LOCATION;VALUE=URI;X-ADDRESS=128 Greenhill Road\,
 Unley\, SA\, 5061\, Australia;X-APPLE-RADIUS=100;X-TITLE=Association of
 Independent Schools of SA:geo:-34.9601578,138.60864300000003
END:VEVENT
BEGIN:VTIMEZONE
TZID:Australia/Adelaide
X-LIC-LOCATION:Australia/Adelaide
BEGIN:DAYLIGHT
DTSTART:20201004T030000
TZOFFSETFROM:+0930
TZOFFSETTO:+1030
TZNAME:ACDT
END:DAYLIGHT
END:VTIMEZONE
END:VCALENDAR