BEGIN:VCALENDAR
VERSION:2.0
PRODID:-//wp-events-plugin.com//7.2.3.1//EN
TZID:Australia/Adelaide
X-WR-TIMEZONE:Australia/Adelaide
BEGIN:VEVENT
UID:844@ais.sa.edu.au
DTSTART;TZID=Australia/Adelaide:20240730T154500
DTEND;TZID=Australia/Adelaide:20240730T170000
DTSTAMP:20240711T052549Z
URL:https://www.ais.sa.edu.au/events/curriculum-and-reporting-obligations-
 for-students-in-foundation-including-mid-year-entry-online-information-ses
 sion/
SUMMARY:Curriculum and reporting obligations for students in Foundation
 (including mid-year entry) - Online Information Session
DESCRIPTION:This 75-minute online session will provide important
 information about a student’s transition into the first year of school
 (both for four and six terms).  \n\nThe focus will be on school
 obligations for curriculum and reporting. \n\nAudience: Principals\,
 Primary Heads\, Early Years Curriculum and Learning Leaders\, ELC Directors
 and teachers\n\nDelivery mode: online - a Zoom link will be sent closer to
 the event\n\nPresenters: Libby Worrell and Désirée Gilbert\, AISSA Senior
 Educational Consultants\n\nPrice: There is no charge for this
 event.\n\nBookings for this event close at 5.00pm on 29/07/2024.\n\nSee
 the AISSA Professional Learning Terms and Conditions for the full
 registration terms and conditions including the cancellation policy.\n\nFor
 registration enquiries please contact Keira Brault.
CATEGORIES:Professional Learning
END:VEVENT
BEGIN:VTIMEZONE
TZID:Australia/Adelaide
X-LIC-LOCATION:Australia/Adelaide
BEGIN:STANDARD
DTSTART:20240407T020000
TZOFFSETFROM:+1030
TZOFFSETTO:+0930
TZNAME:ACST
END:STANDARD
END:VTIMEZONE
END:VCALENDAR