BEGIN:VCALENDAR
VERSION:2.0
PRODID:-//wp-events-plugin.com//7.2.3.1//EN
TZID:Australia/Adelaide
X-WR-TIMEZONE:Australia/Adelaide
BEGIN:VEVENT
UID:385@ais.sa.edu.au
DTSTART;TZID=Australia/Adelaide:20210604T090000
DTEND;TZID=Australia/Adelaide:20210604T123000
DTSTAMP:20210318T005247Z
URL:https://www.ais.sa.edu.au/events/catalysts-pedagogical-improvement-ses
 sion-2-2/
SUMMARY:Catalysts for Pedagogical Improvement\, session 2 of 2
DESCRIPTION:“… highly effective teaching is the key to improving
 student learning throughout the school.”(ACER) “…the best teachers
 believe in the capacity of their students to learn\, and carefully utilize
 a range of pedagogical approaches to ensure this learning occurs (UNESCO\,
 2018)\n\nFour catalysts for driving pedagogical improvement will be
 investigated during these two half-day clinics (on Zoom). The four
 catalysts are listed below with the provocation that will drive the
 dialogue and information shared:\n\nAssessment for Learning \n\n 	How do we
 effectively design and use assessment to gain insight into what our
 learners understand\, know and can do\, and engage learners in their
 learning?\n\nLearning Design \n\n 	How might we design learning where the
 educative purpose is on conceptual understanding and transfer?\n\nThe
 General Capabilities\, Critical and Creative Thinking\n\n 	How might the
 explicit teaching and embedding of critical and creative thinking
 throughout learning encourage higher order thinking?\n\nThe National
 Literacy and Numeracy Progressions.\n\n 	How do we use the National
 Literacy and Numeracy Progressions to focus on our learners and their
 learning – to gain an understand of where my learners are now and to
 explore future learning opportunities to support their
 growth?\n\n&nbsp\;\n\nTarget audience: Leaders and teachers Foundation to
 Year 10\n\nDelivery mode:  Zoom\n\nPresenters: \n\nDesiree Gilbert\,
 AISSA\nRosemary Kadow\, AISSA\n\nSessions in this series:\n27 May 9.00am
 – 12.30pm\n4 June 9.00am – 12.30pm\n\n&nbsp\;\n\nPlease see the
 AISSA’s Video Conferencing Collection Notice and Video Conferencing
 Privacy Disclosure Statement for information about the AISSA’s collection
 of personal information through video conferencing.\n\nA Zoom link will be
 sent closer to the event.\n\n&nbsp\;\n\nFor registration enquiries please
 contact Emily Metelmann.
CATEGORIES:Professional Learning
END:VEVENT
BEGIN:VTIMEZONE
TZID:Australia/Adelaide
X-LIC-LOCATION:Australia/Adelaide
BEGIN:STANDARD
DTSTART:20210404T020000
TZOFFSETFROM:+1030
TZOFFSETTO:+0930
TZNAME:ACST
END:STANDARD
END:VTIMEZONE
END:VCALENDAR