BEGIN:VCALENDAR
VERSION:2.0
PRODID:-//wp-events-plugin.com//7.2.3.1//EN
TZID:Australia/Adelaide
X-WR-TIMEZONE:Australia/Adelaide
BEGIN:VEVENT
UID:730@ais.sa.edu.au
DTSTART;TZID=Australia/Adelaide:20230817T090000
DTEND;TZID=Australia/Adelaide:20230817T150000
DTSTAMP:20230601T070944Z
URL:https://www.ais.sa.edu.au/events/brighton-grammar-school-coaching-in-a
 ction-day/
SUMMARY:Brighton Grammar School Coaching in Action Day
DESCRIPTION:The Brighton Grammar School Coaching in Action Day will provide
 you with the opportunity to see coaching in action in real life classrooms
 on campus and understand more deeply how it can be integrated within a
 holistic a coaching program in a school. It will include a coaching cycle\,
 simulated coaching\, discussions with BGS coaches\, class visits to
 practice data collection\, and reflection on the whole cycle. Resources for
 later reference will also be provided. The Crowther Coaching in Action Day
 is ideal for those wanting to develop their own coaching skills or develop
 their own coaching program. \n\nThe AISSA will invoice schools $350.00
 excluding GST (GST excl) per attending participant. \n\nThe Coaching in
 Action Day will take place at Brighton Grammar School\, 90 Outer Crescent\,
 Brighton\, Victoria\, 3186 \n\nEach participant is responsible for
 arranging their own flights and accommodation for this
 event. \n\n \n\nAudience: In-school mentors and coaches\, Leadership
 wanting to implement a coaching culture in their schools \n\nDelivery
 mode: Face to face \n\nPresenters: Dr Mark Dowley\, Associate Head of the
 Crowther Centre – Staff Development and Consulting \n\nFor registration
 enquiries please contact Emily Metelmann. \n\nRegistrations due by
 Friday 7 July (end of Term 2) 
LOCATION:Brighton Grammar School\, 90 Outer Crescent\, Brighton\,
 Victoria\, 3186\, Australia
X-APPLE-STRUCTURED-LOCATION;VALUE=URI;X-ADDRESS=90 Outer Crescent\,
 Brighton\, Victoria\, 3186\, Australia;X-APPLE-RADIUS=100;X-TITLE=Brighton
 Grammar School:geo:0,0
END:VEVENT
BEGIN:VTIMEZONE
TZID:Australia/Adelaide
X-LIC-LOCATION:Australia/Adelaide
BEGIN:STANDARD
DTSTART:20230402T020000
TZOFFSETFROM:+1030
TZOFFSETTO:+0930
TZNAME:ACST
END:STANDARD
END:VTIMEZONE
END:VCALENDAR