BEGIN:VCALENDAR
VERSION:2.0
PRODID:-//wp-events-plugin.com//7.2.3.1//EN
TZID:Australia/Adelaide
X-WR-TIMEZONE:Australia/Adelaide
BEGIN:VEVENT
UID:731@ais.sa.edu.au
DTSTART;TZID=Australia/Adelaide:20230818T090000
DTEND;TZID=Australia/Adelaide:20230818T150000
DTSTAMP:20230601T070341Z
URL:https://www.ais.sa.edu.au/events/brighton-grammar-school-coaching-in-a
 ction-day-advanced/
SUMMARY:Brighton Grammar School Coaching in Action Day - Advanced
DESCRIPTION:The Brighton Grammar School Coaching in Action Day – Advanced
 is aimed at taking your coaching skills to the next level. The day takes a
 deeper look at the skills required to be a master coach and is largely
 practical. It will include\, visiting classes\, using video\, practising
 conversations\, high impact instructional techniques and how to overcome
 common coaching challenges. \n\nThe highlight will be seeing you coaching
 work with real teachers and real students. The coaching practice will be
 followed by a chance to watch your coachee in action\, followed by a deeper
 conversation and reflection.  \n\nThe AISSA will invoice schools $350.00
 excluding GST (GST excl) per attending participant. \n\nThe Coaching in
 Action Day will take place at Brighton Grammar School\, 90 Outer Crescent\,
 Brighton\, Victoria\, 3186 \n\nEach participant is responsible for
 arranging their own flights and accommodation for this
 event. \n\n \n\nAudience: In-school mentors and coaches\, Leadership
 wanting to implement a coaching culture in their schools \n\nDelivery
 mode: Face to face \n\nPresenters: Dr Mark Dowley\, Associate Head of the
 Crowther Centre – Staff Development and Consulting \n\nFor registration
 enquiries please contact Emily Metelmann. \n\nRegistrations due by
 Friday 7 July (end of Term 2) 
LOCATION:Brighton Grammar School\, 90 Outer Crescent\, Brighton\,
 Victoria\, 3186\, Australia
X-APPLE-STRUCTURED-LOCATION;VALUE=URI;X-ADDRESS=90 Outer Crescent\,
 Brighton\, Victoria\, 3186\, Australia;X-APPLE-RADIUS=100;X-TITLE=Brighton
 Grammar School:geo:0,0
END:VEVENT
BEGIN:VTIMEZONE
TZID:Australia/Adelaide
X-LIC-LOCATION:Australia/Adelaide
BEGIN:STANDARD
DTSTART:20230402T020000
TZOFFSETFROM:+1030
TZOFFSETTO:+0930
TZNAME:ACST
END:STANDARD
END:VTIMEZONE
END:VCALENDAR