BEGIN:VCALENDAR
VERSION:2.0
PRODID:-//wp-events-plugin.com//7.2.3.1//EN
TZID:Australia/Adelaide
X-WR-TIMEZONE:Australia/Adelaide
BEGIN:VEVENT
UID:772@ais.sa.edu.au
DTSTART;TZID=Australia/Adelaide:20240627T160000
DTEND;TZID=Australia/Adelaide:20240627T170000
DTSTAMP:20240604T013514Z
URL:https://www.ais.sa.edu.au/events/australian-curriculum-v9-learning-are
 a-hub-group-technologies-2023-cohort/
SUMMARY:*Cancelled* Australian Curriculum v9 Learning Area Hub Group:
 Technologies (2023 Cohort)
DESCRIPTION:In response to requests from schools\, the AISSA has
 established specific learning area hub groups to provide ongoing support
 for F-10 Leaders of Learning and Learning Area specialists with the
 implementation\, enactment and evaluation of the AC v9.\n\nDuring these
 specific learning area hubs\, participants will have an opportunity to:\n\n
 	Network with specific learning area and stage of schooling colleagues\n
 	Engage in practice exchange and professional dialogue\n 	Share resources\n
 	Ask questions\n\nTwo hub groups per learning area will be offered
 throughout 2024. These hubs are open to F-10 Leaders of Learning and
 Learning Area specialists who engaged in the Australian Curriculum v9
 Familiarisation and Implementation project in 2023.\n\nThis is a series. 
 By registering you are committing to attending the following
 sessions:\n\nSemester 1: 27/06/2024\, 4.00pm-5.00pm\nSemester 2:
 13/11/2024\, 4.00pm-5.00pm\n\nAudience: Primary and Secondary Curriculum
 and Learning Leaders (2023 cohort)\n\nDelivery mode:
 face-to-face\n\nPresenter: Desiree Gilbert\, AISSA Senior Educational
 Consultant\n\nPrice: There is no charge for this series\n\nBookings for
 this series close at 5.00pm on 04/06/2024.\n\nSee the AISSA Professional
 Learning Terms and Conditions for the full registration terms and
 conditions including the cancellation policy.\n\nFor registration enquiries
 please contact Keira Brault.\n\n&nbsp\;
CATEGORIES:Professional Learning
LOCATION:Association of Independent Schools of SA\, 128 Greenhill Road\,
 Unley\, SA\, 5061\, Australia
GEO:-34.9601578;138.60864300000003
X-APPLE-STRUCTURED-LOCATION;VALUE=URI;X-ADDRESS=128 Greenhill Road\,
 Unley\, SA\, 5061\, Australia;X-APPLE-RADIUS=100;X-TITLE=Association of
 Independent Schools of SA:geo:-34.9601578,138.60864300000003
END:VEVENT
BEGIN:VTIMEZONE
TZID:Australia/Adelaide
X-LIC-LOCATION:Australia/Adelaide
BEGIN:STANDARD
DTSTART:20240407T020000
TZOFFSETFROM:+1030
TZOFFSETTO:+0930
TZNAME:ACST
END:STANDARD
END:VTIMEZONE
END:VCALENDAR