BEGIN:VCALENDAR
VERSION:2.0
PRODID:-//wp-events-plugin.com//7.2.3.1//EN
TZID:Australia/Adelaide
X-WR-TIMEZONE:Australia/Adelaide
BEGIN:VEVENT
UID:956@ais.sa.edu.au
DTSTART;TZID=Australia/Adelaide:20260513T093000
DTEND;TZID=Australia/Adelaide:20260513T113000
DTSTAMP:20251126T070729Z
URL:https://www.ais.sa.edu.au/events/australian-curriculum-v-9-network-hub
 -science/
SUMMARY:Australian Curriculum v.9 Network Hub Science
DESCRIPTION:Join Australian Curriculum v.9 Network Hubs' interactive online
 sessions featuring expert speakers\, tailored insights\, and collaborative
 dialogue. Explore strategies to reduce curriculum overload and elevate
 deep\, rigorous learning. Designed for educators\, leaders\, and support
 staff across all learning areas.\n\nYour commitment: 4 contact hours plus
 any required reading.\n\nAITSL Professional Standards for Teachers: Focus
 areas 2.1\, 2.2\, 2.3\, 2.5\, 2.6\, 3.2\, 3.4 and 3.6\n\nDelivery mode: 2
 x online sessions.\n\nPresented by: \nDesiree Gilbert\, Senior Educational
 Consultant\, AISSA\n Elisia Banks\, Learning Partnerships Coordinator\,
 Green Adelaide\nHelen Silvester\, Learning Area Manager (Science)\,
 Education\, Australian Academy of Science\n\nPrice: $150.00 per person (GST
 inclusive).\n\nKey Dates: By registering for this series\, you are
 committing to attend the following sessions:\n\n13 May 2026\,
 9:30am-11:30am\n12 August 2026\, 9:30am-11:30am\n\nLocation: online via
 Zoom - a link will be sent via email prior to each session.\n\nRegistration
 closes: 6 May 2026 at 5:00pm.\n\nProgram Overview: Join subject-specific
 Australian Curriculum v.9 Network Hubs - dynamic online communities
 designed for teachers\, curriculum and learning leaders\, specialist
 educators\, inclusive education staff\, and SSOs. Each hub features expert
 guest speakers and focuses on participant-driven questions and
 priorities identified in the 2025 Network Hub Series. \n\nEngage in
 rich\, collaborative discussions\, strengthen your curriculum expertise\,
 and access tailored insights and resources that support meaningful
 classroom practice. In 2026\, all Learning Area hubs will centre on a
 shared challenge: how to engage with the curriculum in ways
 that minimise overload and maximise deep\, conceptual and rigorous
 learning opportunities. \n\nThese sessions are designed to be practical\,
 responsive\, and empowering\, helping educators navigate curriculum
 demands with clarity and confidence. Whether you are refining your
 practice or leading change\, the Network Hubs offer a valuable space to
 connect with peers\, learn from experts\, and take action. \n\nEach
 subject-specific hub pair will explore the following key focus
 areas: \n\nEngage with expert guest presenters in a 2 x 2-hour online
 workshop series exploring conceptually rich planning in science. Elisia
 Banks from Green Adelaide will lead a session investigating opportunities
 to design rich learning experiences\, across both primary and secondary
 settings\, that connect key Science concepts and demonstrate the
 application of the Cross-Curriculum Priority: Sustainability. Elisia will
 also share practical resources\, including the Climate Ready Program. Helen
 Silvester from the Australian Academy of Science will guide participants in
 using the Primary Connections and Science Connections platforms to design
 learning sequences aligned to Australian Curriculum v.9. This series offers
 practical strategies\, inspiring stories of practice\, and valuable tools
 to help educators create inclusive\, impactful science learning
 experiences. \n\nProgram Lead: please contact Désirée Gilbert.\n\nTerms
 and Conditions: Registration for this event will incur the fee detailed
 above. This fee will be invoiced after the event and is payable unless
 written notice of cancellation is received seven or more days prior to the
 event.  See the AISSA’s Professional Learning Terms and
 Conditions for the full registration terms and conditions including the
 cancellation policy.
CATEGORIES:Curriculum, Pedagogy and Assessment,Professional
 Learning,Wellbeing and Inclusion
END:VEVENT
BEGIN:VTIMEZONE
TZID:Australia/Adelaide
X-LIC-LOCATION:Australia/Adelaide
BEGIN:STANDARD
DTSTART:20260405T020000
TZOFFSETFROM:+1030
TZOFFSETTO:+0930
TZNAME:ACST
END:STANDARD
END:VTIMEZONE
END:VCALENDAR