BEGIN:VCALENDAR
VERSION:2.0
PRODID:-//wp-events-plugin.com//7.2.3.1//EN
TZID:Australia/Adelaide
X-WR-TIMEZONE:Australia/Adelaide
BEGIN:VEVENT
UID:648@ais.sa.edu.au
DTSTART;TZID=Australia/Adelaide:20230220T130000
DTEND;TZID=Australia/Adelaide:20230220T160000
DTSTAMP:20230217T023943Z
URL:https://www.ais.sa.edu.au/events/2023-naplan-preparation-and-protocols
 -new-naplan-coordinators/
SUMMARY:2023 NAPLAN Preparation and Protocols: New NAPLAN Coordinators
DESCRIPTION:In 2023 NAPLAN will move to Term 1\, commencing on Wednesday 15
 March.\n\nConfidence with the NAPLAN Online Assessment Platform (the
 Platform) and the key school implementation roles and responsibilities is
 integral to success during the NAPLAN testing period.\n\nThis session is
 designed to support staff new to the role of NAPLAN Coordinator.\n\nThis
 session will provide an overview of the Assessment Platform\, as well as
 outline the key preparation and training activities required within schools
 in the lead up to both the National Coordinated Practice Test on 28
 February and the Term 1 NAPLAN tests in March.\n\nThis three hour session\,
 held via Zoom\, will focus on:\n\n 	2023 Assessment Platform orientation\n
 	National Test Protocol information\n 	Key coordination tasks and essential
 resources\n\nAttendees may find it beneficial to use two devices to
 participate in this session: one device dedicated to Zoom\, and another to
 navigate assessform.\n\nAudience: NAPLAN Coordinators new to the
 role\n\nDelivery mode: online (a Zoom link will be sent closer to the
 event)\n\nPresenters:\nLynda Secombe\, Senior Educational Consultant\,
 AISSA\nDesiree Gilbert\, Senior Educational Consultant\, AISSA\nRosemary
 Kadow\, Senior Educational Consultant\, AISSA\n\n&nbsp\;\n\nFor
 registration enquiries please contact Emily Metelmann.
CATEGORIES:Professional Learning
END:VEVENT
BEGIN:VTIMEZONE
TZID:Australia/Adelaide
X-LIC-LOCATION:Australia/Adelaide
BEGIN:DAYLIGHT
DTSTART:20221002T030000
TZOFFSETFROM:+0930
TZOFFSETTO:+1030
TZNAME:ACDT
END:DAYLIGHT
END:VTIMEZONE
END:VCALENDAR